BEGIN:VCALENDAR
VERSION:2.0
PRODID:-//wp-events-plugin.com//7.2.3.1//EN
TZID:Europe/Amsterdam
X-WR-TIMEZONE:Europe/Amsterdam
BEGIN:VEVENT
UID:0-23@visions-for-the-future.sites.uu.nl
DTSTART;TZID=Europe/Amsterdam:20260518T150000
DTEND;TZID=Europe/Amsterdam:20260518T163000
DTSTAMP:20260116T080703Z
URL:https://visions-for-the-future.sites.uu.nl/events/speaker-series-with-
 dr-rutger-claassen/
SUMMARY:Speaker Series with Dr. Rutger Claassen
DESCRIPTION:\nSocial Ownership Democracy\n\n\n\nThe session takes place onl
 ine. You can join the session through the MS TEAMS link. \n\n\n\nIf you wo
 uld like to receive calendar invites with the links to all our speaker ser
 ies events and receive updates on our project please email us at a.c.moite
 irodasneves@uu.nl. \n\n\n\nAbout the speaker: ​Rutger Claassen is Profe
 ssor of Political Philosophy and Economic Ethics at the Department of Phil
 osophy and Religious Studies of Utrecht University. His research is at the
  intersection of politics\, economics and ethics\, focusing on theoretical
  and normative questions about democracy\, freedom\, markets\, and justice
 .\n\n\n\nHe currently is the principal investigator of a research project 
 on &nbsp\;The Business Corporation as a Political Actor\, funded by the Eu
 ropean Research Council (ERC-Consolidator Grant)\, which investigates the 
 societal role and legitimacy of business corporations (2020-2025). He was 
 the principal investigator of a research project funded by the Netherlands
  Organization for Scientific Research (NWO) on Private Property &amp\; Pol
 itical Power in Liberal-Democratic Societies (2017-2022). This project foc
 used on the social/political power coming with accumulated private propert
 y holdings\, and how to render these consistent with ideals of democratic 
 accountability.\n\n\n\nIf you would like to receive information about the 
 speaker series\, please email Catarina Neves at a.c.moiteirodasneves@uu.nl
 .&nbsp\;\n
END:VEVENT
BEGIN:VTIMEZONE
TZID:Europe/Amsterdam
X-LIC-LOCATION:Europe/Amsterdam
BEGIN:DAYLIGHT
DTSTART:20260329T030000
TZOFFSETFROM:+0100
TZOFFSETTO:+0200
TZNAME:CEST
END:DAYLIGHT
END:VTIMEZONE
END:VCALENDAR