BEGIN:VCALENDAR
VERSION:2.0
PRODID:-//wp-events-plugin.com//7.2.3.1//EN
TZID:Europe/Amsterdam
X-WR-TIMEZONE:Europe/Amsterdam
BEGIN:VEVENT
UID:0-13@visions-for-the-future.sites.uu.nl
DTSTART;TZID=Europe/Amsterdam:20250613T153000
DTEND;TZID=Europe/Amsterdam:20250613T170000
DTSTAMP:20250613T161858Z
URL:https://visions-for-the-future.sites.uu.nl/events/speaker-series-with-
 dr-joseph-heath/
SUMMARY:Speaker Series with Dr. Joseph Heath
DESCRIPTION:\nCapitalism: Critique or Kvetch? 13 June\, 2025\, 15:30-17:00 
 (CEST)\n\n\n\n\nhttps://youtu.be/Cf4gVzDTmLA\n\n\n\n\nAbout the session: I
 t is widely believed that a critique of capitalism\, in order to count as 
 such\, must identify some flaw that is specific&nbsp\;to capitalism. In ot
 her words\, the problem that is uncovered must not be accidentally related
  to capitalism\, such that it could be eliminated through regulations that
  kept the essentially capitalist nature of the system intact\; nor should 
 it be shared by all other feasible economic systems\, for this would amoun
 t to little more than a complaint (or kvetch) about the human condition\, 
 rather than an indictment of capitalism specifically. Although I think thi
 s distinction between critique and kvetch is intuitively simple to grasp\,
  it harbours several complexities. Most importantly\, it raises the questi
 on of what constitutes a feasible alternative to capitalism. Although the 
 term makes it sound as though this is a pragmatic or technical question\, 
 I will argue that in most cases it is normative. With this clarification i
 n place\, I will then canvass some “critiques” of capitalism that\, up
 on closer inspection\, turn out to be kvetches.\n\n\n\nAbout the speaker: 
 Joseph Heath is Professor in the Department of Philosophy at the Universit
 y of Toronto. He is the author of several books\, both popular and academi
 c. His most recent is Ethics for Capitalists\, which presents a summary an
 d defence of the market failures approach to business ethics.\n\n\n\nTo re
 gister for this online event\, please use this registration form.\n\n\n\nA
 ny additional questions about the Vision Speaker Series\, please email Cat
 arina Neves at a.c.moiteirodasneves@uu.nl.&nbsp\;\n
END:VEVENT
BEGIN:VTIMEZONE
TZID:Europe/Amsterdam
X-LIC-LOCATION:Europe/Amsterdam
BEGIN:DAYLIGHT
DTSTART:20250330T030000
TZOFFSETFROM:+0100
TZOFFSETTO:+0200
TZNAME:CEST
END:DAYLIGHT
END:VTIMEZONE
END:VCALENDAR