BEGIN:VCALENDAR
VERSION:2.0
PRODID:-//wp-events-plugin.com//7.2.3.1//EN
TZID:Europe/Amsterdam
X-WR-TIMEZONE:Europe/Amsterdam
BEGIN:VEVENT
UID:0-33@visions-for-the-future.sites.uu.nl
DTSTART;TZID=Europe/Amsterdam:20260915T150000
DTEND;TZID=Europe/Amsterdam:20260915T163000
DTSTAMP:20260304T090413Z
URL:https://visions-for-the-future.sites.uu.nl/events/speaker-series-with-
 dr-darel-moellendorf/
SUMMARY:Speaker Series with Dr. Darrel Moellendorf
DESCRIPTION:\nThe session takes place online. You can join the session thro
 ugh the MS TEAMS link. \n\n\n\nIf you would like to receive calendar invit
 es with the links to all our speaker series events and receive updates on 
 our project please email us at a.c.moiteirodasneves@uu.nl.&nbsp\;\n\n\n\nA
 bout the session: TBC\n
END:VEVENT
BEGIN:VTIMEZONE
TZID:Europe/Amsterdam
X-LIC-LOCATION:Europe/Amsterdam
BEGIN:DAYLIGHT
DTSTART:20260329T030000
TZOFFSETFROM:+0100
TZOFFSETTO:+0200
TZNAME:CEST
END:DAYLIGHT
END:VTIMEZONE
END:VCALENDAR